BEGIN:VCALENDAR
VERSION:2.0
PRODID:-//FETM Federación Ecuatoriana de Tenis de Mesa - ECPv6.1.3//NONSGML v1.0//EN
CALSCALE:GREGORIAN
METHOD:PUBLISH
X-WR-CALNAME:FETM Federación Ecuatoriana de Tenis de Mesa
X-ORIGINAL-URL:https://fetm.ec
X-WR-CALDESC:Eventos para FETM Federación Ecuatoriana de Tenis de Mesa
REFRESH-INTERVAL;VALUE=DURATION:PT1H
X-Robots-Tag:noindex
X-PUBLISHED-TTL:PT1H
BEGIN:VTIMEZONE
TZID:America/Bogota
BEGIN:STANDARD
TZOFFSETFROM:-0500
TZOFFSETTO:-0500
TZNAME:-05
DTSTART:20230101T000000
END:STANDARD
END:VTIMEZONE
BEGIN:VEVENT
DTSTART;VALUE=DATE:20230831
DTEND;VALUE=DATE:20230904
DTSTAMP:20260422T065235
CREATED:20230619T215626Z
LAST-MODIFIED:20230718T142731Z
UID:14617-1693440000-1693785599@fetm.ec
SUMMARY:II Campamento de Desarrollo -  Zamora Chinchipe
DESCRIPTION:
URL:https://fetm.ec/eventob/ii-campamento-de-desarrollo-zamora-chinchipe/
LOCATION:Zamora Chinchipe
CATEGORIES:U10
END:VEVENT
END:VCALENDAR