BEGIN:VCALENDAR
VERSION:2.0
PRODID:-//FETM Federación Ecuatoriana de Tenis de Mesa - ECPv6.1.3//NONSGML v1.0//EN
CALSCALE:GREGORIAN
METHOD:PUBLISH
X-ORIGINAL-URL:https://fetm.ec
X-WR-CALDESC:Eventos para FETM Federación Ecuatoriana de Tenis de Mesa
REFRESH-INTERVAL;VALUE=DURATION:PT1H
X-Robots-Tag:noindex
X-PUBLISHED-TTL:PT1H
BEGIN:VTIMEZONE
TZID:America/Bogota
BEGIN:STANDARD
TZOFFSETFROM:-0500
TZOFFSETTO:-0500
TZNAME:-05
DTSTART:20230101T000000
END:STANDARD
END:VTIMEZONE
BEGIN:VEVENT
DTSTART;VALUE=DATE:20231116
DTEND;VALUE=DATE:20231122
DTSTAMP:20260421T102200
CREATED:20230714T034612Z
LAST-MODIFIED:20230717T165518Z
UID:14783-1700092800-1700611199@fetm.ec
SUMMARY:Campeonato Panamericano Máster\, USA 2023
DESCRIPTION:DOCUMENTOS IMPORTANTES:\n\nProspecto\nCondiciones de Participación – Comunicado FETM \nCarnetización online
URL:https://fetm.ec/eventob/campeonato-panamericano-master-usa-2023/
LOCATION:Florida\, USA
CATEGORIES:Master
ATTACH;FMTTYPE=image/jpeg:https://fetm.ec/wp-content/uploads/2023/07/WhatsApp-Image-2023-07-14-at-9.28.47-AM.jpeg
END:VEVENT
END:VCALENDAR