BEGIN:VCALENDAR
VERSION:2.0
PRODID:-//FETM Federación Ecuatoriana de Tenis de Mesa - ECPv6.1.3//NONSGML v1.0//EN
CALSCALE:GREGORIAN
METHOD:PUBLISH
X-WR-CALNAME:FETM Federación Ecuatoriana de Tenis de Mesa
X-ORIGINAL-URL:https://fetm.ec
X-WR-CALDESC:Eventos para FETM Federación Ecuatoriana de Tenis de Mesa
REFRESH-INTERVAL;VALUE=DURATION:PT1H
X-Robots-Tag:noindex
X-PUBLISHED-TTL:PT1H
BEGIN:VTIMEZONE
TZID:America/Bogota
BEGIN:STANDARD
TZOFFSETFROM:-0500
TZOFFSETTO:-0500
TZNAME:-05
DTSTART:20240101T000000
END:STANDARD
END:VTIMEZONE
BEGIN:VEVENT
DTSTART;VALUE=DATE:20240404
DTEND;VALUE=DATE:20240408
DTSTAMP:20260422T093637
CREATED:20240115T142158Z
LAST-MODIFIED:20240115T142158Z
UID:15382-1712188800-1712534399@fetm.ec
SUMMARY:Juegos Bolivarianos Juveniles
DESCRIPTION:
URL:https://fetm.ec/eventob/juegos-bolivarianos-juveniles/
LOCATION:Bolivia\, Sucre\, Bolivia
CATEGORIES:Juvenil
END:VEVENT
END:VCALENDAR